BEGIN:VCALENDAR
PRODID:-//Veranstaltung//EN
VERSION:2.0
CALSCALE:GREGORIAN
BEGIN:VEVENT
DTSTART;VALUE=DATE-TIME:20260416T000000
DTEND;VALUE=DATE-TIME:20261127T235959
SUMMARY:Democracia y Estado de Derecho
LOCATION:
DESCRIPTION:Conferencia organizada en conjunto con el Instituto de Formación y Estudios en Democracia del Tribunal Supremo de Elecciones. Es un espacio para reflexionar sobre los pilares de la sociedad y fortalecer el compromiso con los valores democráticos.
UID:
END:VEVENT
END:VCALENDAR