BEGIN:VCALENDAR
PRODID:-//Veranstaltung//EN
VERSION:2.0
CALSCALE:GREGORIAN
BEGIN:VEVENT
DTSTART;VALUE=DATE-TIME:20260410T000000
DTEND;VALUE=DATE-TIME:20260410T235959
SUMMARY:Youth Dialogue on Ethical Leadership for Good Governance
LOCATION:
DESCRIPTION:
UID:
END:VEVENT
END:VCALENDAR