BEGIN:VCALENDAR
PRODID:-//Veranstaltung//EN
VERSION:2.0
CALSCALE:GREGORIAN
BEGIN:VEVENT
DTSTART;VALUE=DATE-TIME:20260421T000000
DTEND;VALUE=DATE-TIME:20260421T235959
SUMMARY:El desorden global: el mundo bajo los efectos de las políticas de Donald Trump
LOCATION:
DESCRIPTION:El 21 de abril, la Fundación Konrad Adenauer y el Instituto de Estudios Social Cristiano realizarán el foro presencial “El desorden global”, un espacio de análisis y debate sobre el impacto de las políticas de Donald Trump en el contexto internacional.
UID:
END:VEVENT
END:VCALENDAR