BEGIN:VCALENDAR
PRODID:-//Veranstaltung//EN
VERSION:2.0
CALSCALE:GREGORIAN
BEGIN:VEVENT
DTSTART;VALUE=DATE-TIME:20260417T110000
DTEND;VALUE=DATE-TIME:20260417T173000
SUMMARY:Re:Open Bukovyna
LOCATION:
DESCRIPTION:У п’ятницю, 17 квітня у Чернівцях відбудеться форум ідей та рішень «Re:Open Bukovyna».
Re:Open Bukovyna 2026 є незалежним дискусійним майданчиком для осіб, що ухвалюють рішення, експертів та лідерів громадської думки з питань національної стійкості та вступу України до Європейського Союзу. Форум продовжує формат Re:Open, започаткований на Закарпатті, і переносить його на Буковину як стратегічний поліетнічний прикордонний регіон Центральної Європи.
Захід організовує «Інститут Центральноєвропейської Стратегії» (ICES) за підтримки Представництва Фонду Конрада Аденауера в Україні, Європейського Союзу та Міжнародного фонду «Відродження» в рамках спільної ініціативи «Вступаємо в ЄС разом»
UID:
END:VEVENT
END:VCALENDAR