BEGIN:VCALENDAR
PRODID:-//Veranstaltung//EN
VERSION:2.0
CALSCALE:GREGORIAN
BEGIN:VEVENT
DTSTART;VALUE=DATE-TIME:20260510T150000
DTEND;VALUE=DATE-TIME:20260510T235959
SUMMARY:Bewegtes Erinnern – Geschichte neu erfahren
LOCATION:
DESCRIPTION:
UID:
END:VEVENT
END:VCALENDAR