BEGIN:VCALENDAR
PRODID:-//Veranstaltung//EN
VERSION:2.0
CALSCALE:GREGORIAN
BEGIN:VEVENT
DTSTART;VALUE=DATE-TIME:20260504T000000
DTEND;VALUE=DATE-TIME:20260505T235959
SUMMARY:Jóvenes Ciudadanos Conscientes
LOCATION:
DESCRIPTION:El próximo lunes 4 y martes 5 de mayo, la Fundación Konrad Adenauer, en alianza con Capitalismo Consciente, dará inicio a una nueva edición de los talleres “Jóvenes Ciudadanos Conscientes”. En esta ocasión se desarrollarán en la ciudad de Iquitos.
UID:
END:VEVENT
END:VCALENDAR