BEGIN:VCALENDAR
PRODID:-//Veranstaltung//EN
VERSION:2.0
CALSCALE:GREGORIAN
BEGIN:VEVENT
DTSTART;VALUE=DATE-TIME:20260409T000000
DTEND;VALUE=DATE-TIME:20260615T235959
SUMMARY:“Alumni Jóvenes Líderes Conscientes”
LOCATION:
DESCRIPTION:La Fundación Konrad Adenauer, en alianza con Capitalismo Consciente, viene desarrollando el programa “Alumni Jóvenes Líderes Conscientes”, una iniciativa dirigida a jóvenes que han participado previamente en los talleres de “Jóvenes Ciudadanos Conscientes” y que destacan por su compromiso y potencial de liderazgo.
UID:
END:VEVENT
END:VCALENDAR