BEGIN:VCALENDAR
PRODID:-//Veranstaltung//EN
VERSION:2.0
CALSCALE:GREGORIAN
BEGIN:VEVENT
DTSTART;VALUE=DATE-TIME:20260428T000000
DTEND;VALUE=DATE-TIME:20260428T235959
SUMMARY:Why Should I Care About… Trade Route Disuptions?
LOCATION:Petaling Jaya
DESCRIPTION:In 2026, the Middle East conflict has escalated into sustained military exchanges.

The fighting has not stopped. Ceasefire talks have broken down more than once. The Strait of Hormuz, which carries roughly one-fifth of the world's traded oil, remains under threat. Shipping costs on Persian Gulf routes have risen sharply. Energy markets have been volatile since the conflict began.

Malaysia is not involved in this conflict. But as a trade-dependent economy integrated into global supply chains, Malaysia is exposed to the economic fallout in ways that are concrete and already visible.
UID:
END:VEVENT
END:VCALENDAR