BEGIN:VCALENDAR
PRODID:-//Veranstaltung//EN
VERSION:2.0
CALSCALE:GREGORIAN
BEGIN:VEVENT
DTSTART;VALUE=DATE-TIME:20260426T100000
DTEND;VALUE=DATE-TIME:20260426T120000
SUMMARY:Wem gehört die Geschichte: den Medien, der Zivilgesellschaft oder den globalen Supermächten?
LOCATION:Bukarest
DESCRIPTION:
UID:
END:VEVENT
END:VCALENDAR