BEGIN:VCALENDAR
PRODID:-//Veranstaltung//EN
VERSION:2.0
CALSCALE:GREGORIAN
BEGIN:VEVENT
DTSTART;VALUE=DATE-TIME:20260426T100000
DTEND;VALUE=DATE-TIME:20260426T120000
SUMMARY:Cine deține povestea: mass-media, societatea civilă sau superputerile globale?
LOCATION:București
DESCRIPTION:
UID:
END:VEVENT
END:VCALENDAR