BEGIN:VCALENDAR
PRODID:-//Veranstaltung//EN
VERSION:2.0
CALSCALE:GREGORIAN
BEGIN:VEVENT
DTSTART;VALUE=DATE-TIME:20260910T000000
DTEND;VALUE=DATE-TIME:20260911T235959
SUMMARY:Riga Konferenz 2026
LOCATION:Centra rajons, Rīga
DESCRIPTION:Seit 2006 ist die lettische Hauptstadt Riga Schauplatz eines bedeutenden jährlichen Forums für Außen- und Sicherheitspolitik. Die Konferenz hat sich fest als regionale Tradition etabliert und dient als Plattform für den Austausch über die strategische Zukunft der transatlantischen Gemeinschaft
UID:
END:VEVENT
END:VCALENDAR