BEGIN:VCALENDAR
PRODID:-//Veranstaltung//EN
VERSION:2.0
CALSCALE:GREGORIAN
BEGIN:VEVENT
DTSTART;VALUE=DATE-TIME:20260910T000000
DTEND;VALUE=DATE-TIME:20260911T235959
SUMMARY:Riga Conference 2026
LOCATION:
DESCRIPTION:Since 2006, the Latvian capital, Riga, has been the venue for a major annual forum on foreign and security policy. The conference has firmly established itself as a regional tradition and serves as a platform for discussion on the strategic future of the transatlantic community
UID:
END:VEVENT
END:VCALENDAR