BEGIN:VCALENDAR
PRODID:-//Veranstaltung//EN
VERSION:2.0
CALSCALE:GREGORIAN
BEGIN:VEVENT
DTSTART;VALUE=DATE-TIME:20260523T110000
DTEND;VALUE=DATE-TIME:20260523T180000
SUMMARY:Skulptureninstallation - Ottmar Hörl: Konrad Adenauer
LOCATION:
DESCRIPTION:Ein Gemeinschaftsprojekt der Stadt Bad Honnef, der Stiftung Bundeskanzler-Adenauer-Haus und der Konrad-Adenauer-Stiftung e.V.
UID:
END:VEVENT
END:VCALENDAR