BEGIN:VCALENDAR
PRODID:-//Veranstaltung//EN
VERSION:2.0
CALSCALE:GREGORIAN
BEGIN:VEVENT
DTSTART;VALUE=DATE-TIME:20260509T170000
DTEND;VALUE=DATE-TIME:20260509T235959
SUMMARY:Algorithmen, Ethik und Demokratie
LOCATION:Rostock
DESCRIPTION:
UID:
END:VEVENT
END:VCALENDAR