BEGIN:VCALENDAR
PRODID:-//Veranstaltung//EN
VERSION:2.0
CALSCALE:GREGORIAN
BEGIN:VEVENT
DTSTART;VALUE=DATE-TIME:20260515T000000
DTEND;VALUE=DATE-TIME:20260517T235959
SUMMARY:Lennart Meri Konferenz 2026
LOCATION:Tallinn
DESCRIPTION:Die globale Ordnung gerät ins Wanken: Der Ukraine-Krieg, Chinas Aufstieg und die Instabilität im Nahen Osten bedrohen das Völkerrecht. In einer Welt, in der Mächte wieder verstärkt eigene Einflusszonen beanspruchen, steht Europa vor der Herausforderung, seine Handlungsfähigkeit und Souveränität zu behaupten
UID:
END:VEVENT
END:VCALENDAR