BEGIN:VCALENDAR
PRODID:-//Veranstaltung//EN
VERSION:2.0
CALSCALE:GREGORIAN
BEGIN:VEVENT
DTSTART;VALUE=DATE-TIME:20260515T000000
DTEND;VALUE=DATE-TIME:20260517T235959
SUMMARY:Lennart Meri Conference 2026
LOCATION:Tallinn
DESCRIPTION:The global order is being shaken: the war in Ukraine, China’s rise and instability in the Middle East are threatening international law. In a world where powers are once again increasingly asserting their own spheres of influence, Europe faces the challenge of asserting its capacity to act and its sovereignty
UID:
END:VEVENT
END:VCALENDAR