BEGIN:VCALENDAR
PRODID:-//Veranstaltung//EN
VERSION:2.0
CALSCALE:GREGORIAN
BEGIN:VEVENT
DTSTART;VALUE=DATE-TIME:20260511T170000
DTEND;VALUE=DATE-TIME:20260511T194500
SUMMARY:Wehrhaftigkeit oder Resilienz?
LOCATION:Koblenz
DESCRIPTION:
UID:
END:VEVENT
END:VCALENDAR