BEGIN:VCALENDAR
PRODID:-//Veranstaltung//EN
VERSION:2.0
CALSCALE:GREGORIAN
BEGIN:VEVENT
DTSTART;VALUE=DATE-TIME:20260519T180000
DTEND;VALUE=DATE-TIME:20260519T210000
SUMMARY:Filmvorführung: „Kriegstüchtig? 70 Jahre Bundeswehr“
LOCATION:Berlin
DESCRIPTION:Vor 70 Jahren wurde in der Bundesrepublik Deutschland die Wehrpflicht eingeführt. Wir präsentieren die ZDF-Dokumentation „Kriegstüchtig? 70 Jahre Bundeswehr“ in einer Vorpremiere. Im Anschluss kommen wir mit Expertinnen und Experten über die Zukunft der Bundeswehr ins Gespräch.
UID:
END:VEVENT
END:VCALENDAR