BEGIN:VCALENDAR
PRODID:-//Veranstaltung//EN
VERSION:2.0
CALSCALE:GREGORIAN
BEGIN:VEVENT
DTSTART;VALUE=DATE-TIME:20260508T083000
DTEND;VALUE=DATE-TIME:20260508T143000
SUMMARY:„Global Security“ EU-Sicherheits- und Verteidigungspolitik
LOCATION:
DESCRIPTION:
UID:
END:VEVENT
END:VCALENDAR