BEGIN:VCALENDAR
PRODID:-//Veranstaltung//EN
VERSION:2.0
CALSCALE:GREGORIAN
BEGIN:VEVENT
DTSTART;VALUE=DATE-TIME:20260319T000000
DTEND;VALUE=DATE-TIME:20261128T235959
SUMMARY:Parlamento Cívico de Movilidad
LOCATION:
DESCRIPTION:
UID:
END:VEVENT
END:VCALENDAR