BEGIN:VCALENDAR
PRODID:-//Veranstaltung//EN
VERSION:2.0
CALSCALE:GREGORIAN
BEGIN:VEVENT
DTSTART;VALUE=DATE-TIME:20260425T090000
DTEND;VALUE=DATE-TIME:20260425T170000
SUMMARY:Problem Solving and Scientific Thinking with Dr. Thomas Gronauer
LOCATION:
DESCRIPTION:Problem solving and scientific thinking are crucial for continuous self-improvement and building resilience by replacing impulsive, assumption-based problem-solving with structured, evidence-based experimentation. Thus, in this workshop, we learn how to overcome cognitive biases, and foster sustainable skills for life-long learning.
UID:
END:VEVENT
END:VCALENDAR