BEGIN:VCALENDAR
PRODID:-//Veranstaltung//EN
VERSION:2.0
CALSCALE:GREGORIAN
BEGIN:VEVENT
DTSTART;VALUE=DATE-TIME:20260527T180000
DTEND;VALUE=DATE-TIME:20260527T193000
SUMMARY:Zwischen Ankommen und Ankommenlassen
LOCATION:Berlin
DESCRIPTION:
UID:
END:VEVENT
END:VCALENDAR