BEGIN:VCALENDAR
PRODID:-//Veranstaltung//EN
VERSION:2.0
CALSCALE:GREGORIAN
BEGIN:VEVENT
DTSTART;VALUE=DATE-TIME:20260427T083000
DTEND;VALUE=DATE-TIME:20260427T160000
SUMMARY:Training on e-AdminCourt Proceedings for Relevant Officials (Administrative Justice Institute)
LOCATION:
DESCRIPTION:The e-AdminCourt system was developed to make administrative justice simpler, faster, and more convenient. Serving as a supplementary channel to traditional filing, this digital platform covers every stage of the legal process from initial complaints to final case execution. To ensure personnel can effectively navigate this comprehensive system, this dedicated training programme has been organised.
UID:
END:VEVENT
END:VCALENDAR