BEGIN:VCALENDAR
PRODID:-//Veranstaltung//EN
VERSION:2.0
CALSCALE:GREGORIAN
BEGIN:VEVENT
DTSTART;VALUE=DATE-TIME:20260427T083000
DTEND;VALUE=DATE-TIME:20260427T160000
SUMMARY:กิจกรรมอบรมเพื่อสร้างความรู้ความเข้าใจเกี่ยวกับการดำเนินคดีปกครองด้วยวิธีการทางอิเล็กทรอนิกส์ให้แก่เจ้าหน้าที่ของรัฐที่เกี่ยวข้องของวิทยาลัยการยุติธรรมทางปกครอง
LOCATION:
DESCRIPTION:ระบบ e-AdminCourt ได้รับการพัฒนาขึ้นเพื่อทำให้กระบวนการยุติธรรมทางปกครองเป็นเรื่องที่ง่าย รวดเร็ว และสะดวกยิ่งขึ้น โดยทำหน้าที่เป็นช่องทางเสริมควบคู่ไปกับการยื่นคำร้องแบบดั้งเดิม แพลตฟอร์มดิจิทัลนี้ครอบคลุมทุกขั้นตอนของกระบวนการทางกฎหมาย ตั้งแต่การยื่นคำฟ้องไปจนถึงการบังคับคดีขั้นสุดท้าย เพื่อให้บุคลากรสามารถใช้งานระบบที่ครอบคลุมนี้ได้อย่างมีประสิทธิภาพ จึงได้มีการจัดโครงการฝึกอบรมเฉพาะทางนี้ขึ้น
UID:
END:VEVENT
END:VCALENDAR