BEGIN:VCALENDAR
PRODID:-//Veranstaltung//EN
VERSION:2.0
CALSCALE:GREGORIAN
BEGIN:VEVENT
DTSTART;VALUE=DATE-TIME:20260520T180000
DTEND;VALUE=DATE-TIME:20260520T235959
SUMMARY:„Warum seid ihr noch am Leben?“: Der Holodomor 1932/33
LOCATION:
DESCRIPTION:
UID:
END:VEVENT
END:VCALENDAR