BEGIN:VCALENDAR
PRODID:-//Veranstaltung//EN
VERSION:2.0
CALSCALE:GREGORIAN
BEGIN:VEVENT
DTSTART;VALUE=DATE-TIME:20260520T193000
DTEND;VALUE=DATE-TIME:20260520T235959
SUMMARY:Jörg Schüttauf liest aus „Häftling 46“ von Alexander Richter-Kariger
LOCATION:Potsdam
DESCRIPTION:Eintritt 15 €, Karten unter 0331-2804103.
UID:
END:VEVENT
END:VCALENDAR