BEGIN:VCALENDAR
PRODID:-//Veranstaltung//EN
VERSION:2.0
CALSCALE:GREGORIAN
BEGIN:VEVENT
DTSTART;VALUE=DATE-TIME:20260505T090000
DTEND;VALUE=DATE-TIME:20260505T235959
SUMMARY:Symposium: “The completion of the vetting process and the progress of justice reform."
LOCATION:
DESCRIPTION:
UID:
END:VEVENT
END:VCALENDAR