BEGIN:VCALENDAR
PRODID:-//Veranstaltung//EN
VERSION:2.0
CALSCALE:GREGORIAN
BEGIN:VEVENT
DTSTART;VALUE=DATE-TIME:20260531T100000
DTEND;VALUE=DATE-TIME:20260531T130000
SUMMARY:#AdenauerRun
LOCATION:
DESCRIPTION:Mach mit beim #AdenauerRun – So hast du die Kölner Brücken in Adenauer-Grün garantiert noch nicht gesehen. Der #AdenauerRun verbindet Bewegung, Community und ein Stück Kölner Stadtgeschichte mit dem Jubiläumsjahr „150 Jahre Konrad Adenauer“.
UID:
END:VEVENT
END:VCALENDAR