BEGIN:VCALENDAR
PRODID:-//Veranstaltung//EN
VERSION:2.0
CALSCALE:GREGORIAN
BEGIN:VEVENT
DTSTART;VALUE=DATE-TIME:20260615T140000
DTEND;VALUE=DATE-TIME:20260615T163000
SUMMARY:Innovationsforum Attendorn 2026
LOCATION:Attendorn
DESCRIPTION:Unser Industriestandort Deutschland steht vor tiefgreifenden technologischen und wirtschaftlichen Veränderungen. Innovation, ein erfolgreicher Wissens- und Technologietransfer zwischen Forschung und Wirtschaft sowie verlässliche Rahmenbedingungen sind entscheidende Faktoren für Wettbewerbsfähigkeit - und somit für Beschäftigung und Wertschöpfung. Vor diesem Hintergrund lädt die Konrad-Adenauer-Stiftung zu einem „Innovationsforum“ mit Impulsvortrag und anschließender Diskussion ein. Die Veranstaltung findet in Kooperation mit der Mubea-Gruppe und unter Schirmherrschaft von Herrn Florian Müller MdB statt.
UID:
END:VEVENT
END:VCALENDAR