BEGIN:VCALENDAR
PRODID:-//Veranstaltung//EN
VERSION:2.0
CALSCALE:GREGORIAN
BEGIN:VEVENT
DTSTART;VALUE=DATE-TIME:20260423T180000
DTEND;VALUE=DATE-TIME:20260423T235959
SUMMARY:„Richterwahlen 2025: Kritische Analyse im Dialog und aus externer Perspektive“
LOCATION:
DESCRIPTION:
UID:
END:VEVENT
END:VCALENDAR