BEGIN:VCALENDAR
PRODID:-//Veranstaltung//EN
VERSION:2.0
CALSCALE:GREGORIAN
BEGIN:VEVENT
DTSTART;VALUE=DATE-TIME:20260423T180000
DTEND;VALUE=DATE-TIME:20260423T235959
SUMMARY:«Elecciones judiciales 2025: balance crítico en diálogo con sus autores y una mirada externa».
LOCATION:
DESCRIPTION:
UID:
END:VEVENT
END:VCALENDAR