BEGIN:VCALENDAR
PRODID:-//Veranstaltung//EN
VERSION:2.0
CALSCALE:GREGORIAN
BEGIN:VEVENT
DTSTART;VALUE=DATE-TIME:20260424T000000
DTEND;VALUE=DATE-TIME:20260424T235959
SUMMARY:DIÁLOGO, INTEGRACIÓN Y CONSTRUCCIÓN DE RED
LOCATION:
DESCRIPTION:Modalidad: Presencial
UID:
END:VEVENT
END:VCALENDAR