BEGIN:VCALENDAR
PRODID:-//Veranstaltung//EN
VERSION:2.0
CALSCALE:GREGORIAN
BEGIN:VEVENT
DTSTART;VALUE=DATE-TIME:20260507T000000
DTEND;VALUE=DATE-TIME:20260508T235959
SUMMARY:Jóvenes Ciudadanos Conscientes
LOCATION:
DESCRIPTION:El próximo 7 y 8 de mayo, la Fundación Konrad Adenauer, en alianza con Capitalismo Consciente, llevará a cabo la segunda fecha de la edición de los talleres “Jóvenes Ciudadanos Conscientes”, la cual se desarrollará en la ciudad de Puno.
UID:
END:VEVENT
END:VCALENDAR