BEGIN:VCALENDAR
PRODID:-//Veranstaltung//EN
VERSION:2.0
CALSCALE:GREGORIAN
BEGIN:VEVENT
DTSTART;VALUE=DATE-TIME:20260608T180000
DTEND;VALUE=DATE-TIME:20260608T193000
SUMMARY:Das Grundgesetz in Zeiten der Bewährung
LOCATION:Düren
DESCRIPTION:
UID:
END:VEVENT
END:VCALENDAR