BEGIN:VCALENDAR
PRODID:-//Veranstaltung//EN
VERSION:2.0
CALSCALE:GREGORIAN
BEGIN:VEVENT
DTSTART;VALUE=DATE-TIME:20260511T000000
DTEND;VALUE=DATE-TIME:20260512T235959
SUMMARY:Jóvenes Ciudadanos Conscientes
LOCATION:
DESCRIPTION:El próximo 11 y 12 de mayo, la Fundación Konrad Adenauer, en alianza con Capitalismo Consciente, llevará a cabo la tercera fecha de la edición de los talleres “Jóvenes Ciudadanos Conscientes”, en esta oportunidad se desarrollará en la ciudad de Huancayo.
UID:
END:VEVENT
END:VCALENDAR