BEGIN:VCALENDAR
PRODID:-//Veranstaltung//EN
VERSION:2.0
CALSCALE:GREGORIAN
BEGIN:VEVENT
DTSTART;VALUE=DATE-TIME:20260812T000000
DTEND;VALUE=DATE-TIME:20260814T235959
SUMMARY:African Journalism Education Network (AJEN) 2026 Annual Conference, Mauritius
LOCATION:
DESCRIPTION:The African Journalism Education Network (Ajen) will host its 2026 Round Table from 12–14 August 2026 in Mauritius, bringing together journalism educators, media practitioners and researchers from across Africa and beyond, with support from KAS Media Africa.
UID:
END:VEVENT
END:VCALENDAR