BEGIN:VCALENDAR
PRODID:-//Veranstaltung//EN
VERSION:2.0
CALSCALE:GREGORIAN
BEGIN:VEVENT
DTSTART;VALUE=DATE-TIME:20260602T000000
DTEND;VALUE=DATE-TIME:20260604T235959
SUMMARY:The Great Media Shift - International Round Table Discussion
LOCATION:
DESCRIPTION:Africa’s media landscape is rapidly transforming as digital content creators and influencers reshape how news is produced, distributed, and consumed. KAS Media Africa is hosting an international roundtable from 2-4 June in Kigali, Rwanda. Bringing together journalists, content creators, media leaders, and industry partners to explore how credibility, innovation, and economic sustainability can be strengthened in a platform‑driven media environment.
UID:
END:VEVENT
END:VCALENDAR