BEGIN:VCALENDAR
PRODID:-//Veranstaltung//EN
VERSION:2.0
CALSCALE:GREGORIAN
BEGIN:VEVENT
DTSTART;VALUE=DATE-TIME:20260501T000000
DTEND;VALUE=DATE-TIME:20260528T235959
SUMMARY:Zwischen Erfolg und Verfolgung
LOCATION:
DESCRIPTION:
UID:
END:VEVENT
END:VCALENDAR